BEGIN:VCALENDAR
VERSION:2.0
PRODID:-//Boutique O Tabarnac - ECPv6.15.15//NONSGML v1.0//EN
CALSCALE:GREGORIAN
METHOD:PUBLISH
X-WR-CALNAME:Boutique O Tabarnac
X-ORIGINAL-URL:https://otabarnacbar.com
X-WR-CALDESC:Événements pour Boutique O Tabarnac
REFRESH-INTERVAL;VALUE=DURATION:PT1H
X-Robots-Tag:noindex
X-PUBLISHED-TTL:PT1H
BEGIN:VTIMEZONE
TZID:UTC
BEGIN:STANDARD
TZOFFSETFROM:+0000
TZOFFSETTO:+0000
TZNAME:UTC
DTSTART:20250101T000000
END:STANDARD
END:VTIMEZONE
BEGIN:VEVENT
DTSTART;TZID=UTC:20260220T150000
DTEND;TZID=UTC:20260220T200000
DTSTAMP:20260419T154158
CREATED:20251112T140352Z
LAST-MODIFIED:20251113T161440Z
UID:101-1771599600-1771617600@otabarnacbar.com
SUMMARY:NEGRIL RISING – Concert Bénéfice / Fundraiser Concert
DESCRIPTION:🔥 NEGRIL RISING – Concert Bénéfice / Fundraiser Concert 🔥\n📍 O’Tabarnac Bar\, Run Runners Resort\n📅 20 février 2026 | February 20\, 2026 — 3:00PM à 8:00PM \nPRÉ VENTE $50.00 CAD. PRE SALES $50.00CAD. \n$70.00 CAD REGULAR PRICE \nCe n’est pas juste un show… c’est un mouvement. 💛\nIt’s more than just a show — it’s a movement. 💛 \nRejoignez-nous pour une soirée pleine de musique\, d’amour et d’unité\, avec Calbert & The Allstar Drummers\, Crystal Axe\, Steve Landry\, Carl Tremblay et plusieurs autres artistes incroyables! 🎶\nJoin us for an unforgettable evening of music\, love\, and unity\, featuring Calbert & The Allstar Drummers\, Crystal Axe\, Steve Landry\, Carl Tremblay\, and more amazing artists! 🎶 \n🍽️ Chaque billet inclut un repas!\nEach ticket includes a meal!\nPoutine\, poulet jerk ou Tofu jerk et pizza — un mélange parfait entre saveurs canadiennes et jamaïcaines. 🇨🇦🇯🇲\nPoutine\, jerk chicken\, or jerk tofu   and pizza — a perfect mix of Canadian and Jamaican flavors. 🇨🇦🇯🇲
URL:https://otabarnacbar.com/event/negril-rising-concert-benefice-fundraiser-concert/
ATTACH;FMTTYPE=image/png:https://otabarnacbar.com/wp-content/uploads/2025/11/6A950659-B3E3-4549-AF38-88286B02C6E2-e1762958735769.png
END:VEVENT
END:VCALENDAR